BEGIN:VCALENDAR
VERSION:2.0
PRODID:-//InvisionCommunity Events 4.7.23//EN
METHOD:PUBLISH
CALSCALE:GREGORIAN
REFRESH-INTERVAL:PT15M
X-PUBLISHED-TTL:PT15M
X-WR-CALNAME:Основной календарь
NAME:Основной календарь
BEGIN:VTIMEZONE
TZID:Europe/London
TZURL:http://tzurl.org/zoneinfo/Europe/London
X-LIC-LOCATION:Europe/London
BEGIN:DAYLIGHT
TZOFFSETFROM:+0000
TZOFFSETTO:+0100
TZNAME:BST
DTSTART:20250330T020000Z
RRULE:FREQ=YEARLY;BYMONTH=3;BYDAY=-1SU
END:DAYLIGHT
BEGIN:STANDARD
TZOFFSETFROM:+0100
TZOFFSETTO:+0000
TZNAME:GMT
DTSTART:20251026T020000Z
RRULE:FREQ=YEARLY;BYMONTH=10;BYDAY=-1SU
END:STANDARD
END:VTIMEZONE
BEGIN:VEVENT
SUMMARY:Magia Hermetica Mediatoris
DTSTAMP:20250705T173242Z
SEQUENCE:0
UID:1217-1-793c5af96a457600ca0fe1f61e978acb@sphinx.vision
ORGANIZER;CN="Алёна":info@sphinx.vision
DESCRIPTION:\n	 \n\n\n\n	\n		\n	\n\n\n\n	 \n\n\n\n	\n\n\n\n	\n\n	\n\
	n	Ведет курс: Лео Свердловски\n\n\
	n\n	Начало курса: 28 июня 2025\n\n\n\n	 \n
	\n\n\n	Термин Mediato
	r „медиа
	тор“ обо
	значает пос
	редника\, соед
	иняющего или 
	связывающег
	о различные начала\, 
	уровни бытия\, систем
	ы и противоположности
	.\n\n\n\n	Это тот\, кт
	о осуществл
	яет передач
	у\, взаимодей
	ствие и синте
	з между разны
	ми полюсами 
	и принципами\, обесп
	ечивая переход\, и
	нтеграцию и трансф
	ормацию.\n\n\n\n	Вн
	утренний Ме
	диатор рожд
	ается там\, гд
	е Сила Раз
	ума-Кронос 
	встречает Не
	избежность-А
	нанке\, чтобы 
	трансформирова
	ть душу и лично
	сть\, создать новый ми
	р из хаоса\, воплотить 
	мечту и познать Силу
	.\n\n\n\n	Это путь\, вед
	ущий за гор
	изонт привычно
	го — к любви\, красоте
	 и бесконечному сове
	ршенствованию.\n\n	\n
	\n	Маг\, вставши
	й на путь гер
	метизма\, у
	чится сое
	динять несовмес
	тимое и черпать силу из глав
	ных принципов мироздания.\n\n\n\n	\n\n	
	 \n\n\n\n	\n\n\n\n	Занятия 1 раз в нед
	елю примерно по 3 часа\, 
	\n\n\n\n	Курс состоит из 50 заняти
	й по субботам с 20:30 по Мюнхену\n
	\n\n\n	\n\n	 \n\n\n\n	➡️ Программа кур
	са\n\n\n\n	 \n\n\n\n	➡️ Подать заявку\n\n
DTSTART;VALUE=DATE:20250628
RRULE:FREQ=WEEKLY;INTERVAL=1;COUNT=50
END:VEVENT
END:VCALENDAR
