BEGIN:VCALENDAR
VERSION:2.0
PRODID:-//InvisionCommunity Events 4.7.23//EN
METHOD:PUBLISH
CALSCALE:GREGORIAN
REFRESH-INTERVAL:PT15M
X-PUBLISHED-TTL:PT15M
X-WR-CALNAME:Основной календарь
NAME:Основной календарь
BEGIN:VTIMEZONE
TZID:Europe/London
TZURL:http://tzurl.org/zoneinfo/Europe/London
X-LIC-LOCATION:Europe/London
BEGIN:DAYLIGHT
TZOFFSETFROM:+0000
TZOFFSETTO:+0100
TZNAME:BST
DTSTART:20250330T020000Z
RRULE:FREQ=YEARLY;BYMONTH=3;BYDAY=-1SU
END:DAYLIGHT
BEGIN:STANDARD
TZOFFSETFROM:+0100
TZOFFSETTO:+0000
TZNAME:GMT
DTSTART:20251026T020000Z
RRULE:FREQ=YEARLY;BYMONTH=10;BYDAY=-1SU
END:STANDARD
END:VTIMEZONE
BEGIN:VEVENT
SUMMARY:50 Ритуалов возвышения к Высшему 
	Я
DTSTAMP:20250323T042539Z
SEQUENCE:0
UID:1216-1-793c5af96a457600ca0fe1f61e978acb@sphinx.vision
ORGANIZER;CN="Алёна":info@sphinx.vision
DESCRIPTION:\n	\n\n	 \n\n\n\n	 \n\n\n\n	Во 
	всех традици
	ях Высшее Я р
	ассматрива
	ется не прос
	то как «све
	рхсознание»\
	, а как точка 
	соприкосн
	овения с абс
	олютной ре
	альностью\, 
	выход за границы и
	ндивидуального «Я
	» к универсальному 
	Разуму.\n\n\n\n	Это не
	 просто знание — это пости
	жение того\, что лежит за гранью.\n\n
	\n\n	 \n\n\n\n	 \n\n\n\n	Все Р
	итуалы курса будут направ
	лены на благо Мироздания.\n
	\n\n\n	 \n\n\n\n	Только 
	магические уси
	лия\, направле
	нные на благо 
	Внешнего Мира 
	и других люде
	й\, позволяют 
	расти\, усло
	жняться\, ст
	ановиться 
	могуществе
	ннее. Это п
	равило не
	объяснимо
	\, но подтв
	ерждено т
	ысячелетия
	ми магических 
	и религиозных 
	практик. Напр
	авляя усилия ли
	шь на себя\, и
	 даже прикла
	дывая огромны
	е усилия\, чел
	овек получает 
	мизерный результ
	ат. Но если вы рабо
	таете над миром\,
	 над другими люд
	ьми\, над соци
	умом\, если в
	аши цели на
	правлены в
	овне и благо
	желательны —
	 тогда ваш рос
	т происходит
	 в разы быст
	рее\, поскольку ли
	шь такие усилия действ
	ительно учитываются миром.\n\n\
	n\n	 \n\n\n\n	➡️ Программа курса: https://sphinx.visio
	n/school/uchebnye-predmety/2012-50-ritualov-vozvysheniya-k-vysshemu-ya\n\n
	\n\n	 \n\n\n\n	➡️ Видео анонс курса: https://youtu.b
	e/dJ8Vl6rrFpk?si=692fWqwgAA5zsrn1\n\n\n\n	 \n\n\n\n	 \n\n\n\n	
	Ведёт курс Лео Свердловски\
	n\n\n\n	50 занятий по воскресеньям\,
	 с 20.00 по Мюнхену ( с 30 марта с 20.30 по
	 Мюнхену)\n\n\n\n	 \n\n\n\n	➡️ подать заявку http
	s://sphinx.vision/school/apply \n\n\n\n	 \n\n
DTSTART:20250323T190000Z
RRULE:FREQ=WEEKLY;INTERVAL=1;COUNT=50
END:VEVENT
END:VCALENDAR
