BEGIN:VCALENDAR
VERSION:2.0
PRODID:-//InvisionCommunity Events 4.7.23//EN
METHOD:PUBLISH
CALSCALE:GREGORIAN
REFRESH-INTERVAL:PT15M
X-PUBLISHED-TTL:PT15M
X-WR-CALNAME:Основной календарь
NAME:Основной календарь
BEGIN:VTIMEZONE
TZID:Europe/London
TZURL:http://tzurl.org/zoneinfo/Europe/London
X-LIC-LOCATION:Europe/London
BEGIN:DAYLIGHT
TZOFFSETFROM:+0000
TZOFFSETTO:+0100
TZNAME:BST
DTSTART:20250330T020000Z
RRULE:FREQ=YEARLY;BYMONTH=3;BYDAY=-1SU
END:DAYLIGHT
BEGIN:STANDARD
TZOFFSETFROM:+0100
TZOFFSETTO:+0000
TZNAME:GMT
DTSTART:20251026T020000Z
RRULE:FREQ=YEARLY;BYMONTH=10;BYDAY=-1SU
END:STANDARD
END:VTIMEZONE
BEGIN:VEVENT
SUMMARY:Конструирование Будущего (п
	родолжение)
DTSTAMP:20250323T040722Z
SEQUENCE:0
UID:1215-1-793c5af96a457600ca0fe1f61e978acb@sphinx.vision
ORGANIZER;CN="Алёна":info@sphinx.vision
DESCRIPTION:\n	Занятия по субботам с 
	20.00 по Мюнхену\n\n\n\n	ведёт Ле
	о Свердловски\n\n\n\n	Основной курс: \n\n\n\n\n	
	 \n\n
DTSTART:20250322T190000Z
RRULE:FREQ=WEEKLY;INTERVAL=1;COUNT=13
END:VEVENT
END:VCALENDAR
