BEGIN:VCALENDAR
VERSION:2.0
PRODID:-//InvisionCommunity Events 4.7.23//EN
METHOD:PUBLISH
CALSCALE:GREGORIAN
REFRESH-INTERVAL:PT15M
X-PUBLISHED-TTL:PT15M
X-WR-CALNAME:Основной календарь
NAME:Основной календарь
BEGIN:VTIMEZONE
TZID:Europe/London
TZURL:http://tzurl.org/zoneinfo/Europe/London
X-LIC-LOCATION:Europe/London
BEGIN:DAYLIGHT
TZOFFSETFROM:+0000
TZOFFSETTO:+0100
TZNAME:BST
DTSTART:20240331T020000Z
RRULE:FREQ=YEARLY;BYMONTH=3;BYDAY=-1SU
END:DAYLIGHT
BEGIN:STANDARD
TZOFFSETFROM:+0100
TZOFFSETTO:+0000
TZNAME:GMT
DTSTART:20241027T020000Z
RRULE:FREQ=YEARLY;BYMONTH=10;BYDAY=-1SU
END:STANDARD
END:VTIMEZONE
BEGIN:VEVENT
SUMMARY:Продвинутое Целительство
DTSTAMP:20241124T203212Z
SEQUENCE:0
UID:1212-1-793c5af96a457600ca0fe1f61e978acb@sphinx.vision
ORGANIZER;CN="Алёна":info@sphinx.vision
DESCRIPTION:\n	\n\n	 \n\n\n\n	 \n\n\n\n	\n\n\n\n	ПОДАТЬ 
	ЗАЯВКУ: https://sphinx.vision/school/apply\n\n\n\
	n	Занятия: 1 раз в неделю по 2-3 
	часа по средам в 21.00 мск.\
	n\n\n\n	Продолжительность курса: 
	36 занятий.\n\n\n\n	\n\n\n\n	Ведет
	 курс: Александр
	 Гилелах.\n\n\n\n	*️⃣ Подр
	обная программа и информация о курсе\n\n\
	n\n	 \n\n
DTSTART:20241113T180000Z
RRULE:FREQ=WEEKLY;INTERVAL=1;COUNT=36
END:VEVENT
END:VCALENDAR
