BEGIN:VCALENDAR
VERSION:2.0
PRODID:-//InvisionCommunity Events 4.7.23//EN
METHOD:PUBLISH
CALSCALE:GREGORIAN
REFRESH-INTERVAL:PT15M
X-PUBLISHED-TTL:PT15M
X-WR-CALNAME:Основной календарь
NAME:Основной календарь
BEGIN:VTIMEZONE
TZID:Europe/London
TZURL:http://tzurl.org/zoneinfo/Europe/London
X-LIC-LOCATION:Europe/London
BEGIN:DAYLIGHT
TZOFFSETFROM:+0000
TZOFFSETTO:+0100
TZNAME:BST
DTSTART:20240331T020000Z
RRULE:FREQ=YEARLY;BYMONTH=3;BYDAY=-1SU
END:DAYLIGHT
BEGIN:STANDARD
TZOFFSETFROM:+0100
TZOFFSETTO:+0000
TZNAME:GMT
DTSTART:20241027T020000Z
RRULE:FREQ=YEARLY;BYMONTH=10;BYDAY=-1SU
END:STANDARD
END:VTIMEZONE
BEGIN:VEVENT
SUMMARY:Развитие  ментала
DTSTAMP:20240914T200846Z
SEQUENCE:0
UID:1211-1-793c5af96a457600ca0fe1f61e978acb@sphinx.vision
ORGANIZER;CN="Алёна":info@sphinx.vision
DESCRIPTION:\n	\n\n	 \n\n\n\n	 \n\n\n\n	Ведет
	 курс Александр Гилелах\n
	\n\n\n	информация о курсе на сайте Школы: htt
	ps://sphinx.vision/school/uchebnye-predmety/1965-razvitie-mentala-shag-za-
	predely\n\n
DTSTART:20240306T180000Z
RRULE:FREQ=WEEKLY;INTERVAL=1;COUNT=35
END:VEVENT
END:VCALENDAR
