BEGIN:VCALENDAR
VERSION:2.0
PRODID:-//InvisionCommunity Events 4.7.23//EN
METHOD:PUBLISH
CALSCALE:GREGORIAN
REFRESH-INTERVAL:PT15M
X-PUBLISHED-TTL:PT15M
X-WR-CALNAME:Основной календарь
NAME:Основной календарь
BEGIN:VTIMEZONE
TZID:Europe/London
TZURL:http://tzurl.org/zoneinfo/Europe/London
X-LIC-LOCATION:Europe/London
BEGIN:DAYLIGHT
TZOFFSETFROM:+0000
TZOFFSETTO:+0100
TZNAME:BST
DTSTART:20240331T020000Z
RRULE:FREQ=YEARLY;BYMONTH=3;BYDAY=-1SU
END:DAYLIGHT
BEGIN:STANDARD
TZOFFSETFROM:+0100
TZOFFSETTO:+0000
TZNAME:GMT
DTSTART:20241027T020000Z
RRULE:FREQ=YEARLY;BYMONTH=10;BYDAY=-1SU
END:STANDARD
END:VTIMEZONE
BEGIN:VEVENT
SUMMARY:Ци: Утерянное Мастерство Живой Ц
	и
DTSTAMP:20240303T000630Z
SEQUENCE:0
UID:1207-1-793c5af96a457600ca0fe1f61e978acb@sphinx.vision
ORGANIZER;CN="Алёна":info@sphinx.vision
DESCRIPTION:\n	\n\n\n\n	 \n\n\n\n	 \n\n\n\n	Вс
	ему присуще Стремление\, во всем есть Ц
	и\n\n\n\n	 \n\n\n\n	\n\n\n\n	\n\n	Занятия 1 
	раз в неделю примерно по 2\,5-3\
	,5 часа\,\n\n	по субботам с 20:30 по 
	Мюнхену\n\n\n\n	Начало: 10 фев
	раля 2024г\n\n\n\n	➡️Информация о курс
	е на форуме\n\n\n\n	\n\n\n\n	\n		Ведет
	 предмет: Лео Свердл
	овски\n	\n\n	\n		Занятия 
	проходят в видеопрограмме (фор
	мат вебинара)\n	\n\n	\n		 \n	\n\n	\n		ПОДАТЬ ЗАЯВ
	КУ\n	\n\n\n\n	\n		 \n	\n\n
DTSTART:20240210T190000Z
RRULE:FREQ=WEEKLY;INTERVAL=1;COUNT=55
END:VEVENT
END:VCALENDAR
